BEGIN:VCALENDAR
VERSION:2.0
PRODID:icalendar-ruby
CALSCALE:GREGORIAN
METHOD:PUBLISH
BEGIN:VEVENT
DTSTAMP:20260422T050250Z
UID:event-22371-2026-05-04T21:00:00+02:00-none
DTSTART;TZID=Europe/Madrid:20260504T210000
DESCRIPTION:Favoritísimos de la escena 60’s garage-punk mundial\, los ca
 lifornianos Th´ Losing Streaks vuelven a España a destruir escenarios tr
 as su gira de hace 3 años y su sonada actuación en el Funtastic Dracula 
 Carnival de 2018.
SUMMARY:Th´ Losing Streaks. Gira mayo 2026
END:VEVENT
END:VCALENDAR
