BEGIN:VCALENDAR
VERSION:2.0
PRODID:icalendar-ruby
CALSCALE:GREGORIAN
METHOD:PUBLISH
BEGIN:VEVENT
DTSTAMP:20260421T174718Z
UID:event-22365-2026-04-27T19:30:00+02:00-none
DTSTART;TZID=Europe/Madrid:20260427T193000
DESCRIPTION:“The Designer Is Dead” sigue a Miguel Adrover\, el revoluci
 onario diseñador afincado en Nueva York que transformó la moda con audac
 es afirmaciones sobre multiculturalismo\, sostenibilidad y política. 
SUMMARY:"The Designer is Dead". Presentación y coloquio con el director\, 
 Gonzalo Hergueta
END:VEVENT
END:VCALENDAR
