BEGIN:VCALENDAR
VERSION:2.0
PRODID:icalendar-ruby
CALSCALE:GREGORIAN
METHOD:PUBLISH
BEGIN:VEVENT
DTSTAMP:20260419T203241Z
UID:event-22146-2026-05-12T21:00:00+02:00-none
DTSTART;TZID=Europe/Madrid:20260512T210000
DESCRIPTION:Formado en 2007\, este poderoso trío suizo siempre ha apostado
  por una explosiva combinación de garage ‘sixtie’ y revival mod\, psi
 codelia y punk rock.
SUMMARY:The Jackets y Clean Girl & The Dirty Dishes
END:VEVENT
END:VCALENDAR
