BEGIN:VCALENDAR
VERSION:2.0
PRODID:icalendar-ruby
CALSCALE:GREGORIAN
METHOD:PUBLISH
BEGIN:VEVENT
DTSTAMP:20260420T171451Z
UID:event-20553-2026-05-15T20:30:00+02:00-none
DTSTART;TZID=Europe/Madrid:20260515T203000
DESCRIPTION:The Other Side – Pink Floyd Live Experience es u
SUMMARY:The Other Side – Pink Floyd Live Experience
END:VEVENT
END:VCALENDAR
