BEGIN:VCALENDAR
VERSION:2.0
PRODID:icalendar-ruby
CALSCALE:GREGORIAN
METHOD:PUBLISH
BEGIN:VEVENT
DTSTAMP:20260419T202922Z
UID:event-22192-2026-04-25T21:00:00+02:00-none
DTSTART;TZID=Europe/Madrid:20260425T210000
DESCRIPTION:El cuarteto de Burdeos\, liderado por la cantante y organista L
 ubna Bangs y sus cómplices Francy Fuzz (guitarra)\, Dorian Gardener (bate
 ría) y Ollie Wylde (bajo)\, nos trae su versión moderna del garage punk 
 de los sesenta.
SUMMARY:The Wylde Tryfles. "10 years of fuzz" Tour 2026
END:VEVENT
END:VCALENDAR
