BEGIN:VCALENDAR
VERSION:2.0
PRODID:icalendar-ruby
CALSCALE:GREGORIAN
METHOD:PUBLISH
BEGIN:VEVENT
DTSTAMP:20260423T135720Z
UID:event-22354-2026-05-21T20:00:00+02:00-none
DTSTART;TZID=Europe/Madrid:20260521T200000
DESCRIPTION:Espectáculo basado en los poemas existenciales de su padre. La
  bailarina representa la búsqueda del eterno sentido de la vida recorrien
 do las horas marcadas por el reloj de su corazón.
SUMMARY:"Tiempo y reloj"\, danza con Carmen Mayskaya
END:VEVENT
END:VCALENDAR
