BEGIN:VCALENDAR
VERSION:2.0
PRODID:icalendar-ruby
CALSCALE:GREGORIAN
METHOD:PUBLISH
BEGIN:VEVENT
DTSTAMP:20260423T102852Z
UID:event-15747-2025-03-19T17:00:00+01:00-2025-03-19T20:00:00+01:00
DTSTART;TZID=Europe/Madrid:20250319T170000
DTEND;TZID=Europe/Madrid:20250319T200000
DESCRIPTION:La exposición se plantea como una continuación artística de 
 la experiencia sensible y natural de la visita a un jardín repleto\; una 
 visita que aspira\, con la flor como símbolo\, a ser espejo de la belleza
 .
SUMMARY:"Todos los colores son los colores de las flores". Nueva exposició
 n de Mina K
END:VEVENT
BEGIN:VEVENT
DTSTAMP:20260423T102852Z
UID:event-15747-2025-03-20T17:00:00+01:00-2025-03-20T20:00:00+01:00
DTSTART;TZID=Europe/Madrid:20250320T170000
DTEND;TZID=Europe/Madrid:20250320T200000
DESCRIPTION:La exposición se plantea como una continuación artística de 
 la experiencia sensible y natural de la visita a un jardín repleto\; una 
 visita que aspira\, con la flor como símbolo\, a ser espejo de la belleza
 .
SUMMARY:"Todos los colores son los colores de las flores". Nueva exposició
 n de Mina K
END:VEVENT
BEGIN:VEVENT
DTSTAMP:20260423T102852Z
UID:event-15747-2025-03-21T17:00:00+01:00-2025-03-21T20:00:00+01:00
DTSTART;TZID=Europe/Madrid:20250321T170000
DTEND;TZID=Europe/Madrid:20250321T200000
DESCRIPTION:La exposición se plantea como una continuación artística de 
 la experiencia sensible y natural de la visita a un jardín repleto\; una 
 visita que aspira\, con la flor como símbolo\, a ser espejo de la belleza
 .
SUMMARY:"Todos los colores son los colores de las flores". Nueva exposició
 n de Mina K
END:VEVENT
BEGIN:VEVENT
DTSTAMP:20260423T102852Z
UID:event-15747-2025-03-22T17:00:00+01:00-2025-03-22T20:00:00+01:00
DTSTART;TZID=Europe/Madrid:20250322T170000
DTEND;TZID=Europe/Madrid:20250322T200000
DESCRIPTION:La exposición se plantea como una continuación artística de 
 la experiencia sensible y natural de la visita a un jardín repleto\; una 
 visita que aspira\, con la flor como símbolo\, a ser espejo de la belleza
 .
SUMMARY:"Todos los colores son los colores de las flores". Nueva exposició
 n de Mina K
END:VEVENT
BEGIN:VEVENT
DTSTAMP:20260423T102852Z
UID:event-15747-2025-03-23T17:00:00+01:00-2025-03-23T20:00:00+01:00
DTSTART;TZID=Europe/Madrid:20250323T170000
DTEND;TZID=Europe/Madrid:20250323T200000
DESCRIPTION:La exposición se plantea como una continuación artística de 
 la experiencia sensible y natural de la visita a un jardín repleto\; una 
 visita que aspira\, con la flor como símbolo\, a ser espejo de la belleza
 .
SUMMARY:"Todos los colores son los colores de las flores". Nueva exposició
 n de Mina K
END:VEVENT
BEGIN:VEVENT
DTSTAMP:20260423T102852Z
UID:event-15747-2025-03-24T17:00:00+01:00-2025-03-24T20:00:00+01:00
DTSTART;TZID=Europe/Madrid:20250324T170000
DTEND;TZID=Europe/Madrid:20250324T200000
DESCRIPTION:La exposición se plantea como una continuación artística de 
 la experiencia sensible y natural de la visita a un jardín repleto\; una 
 visita que aspira\, con la flor como símbolo\, a ser espejo de la belleza
 .
SUMMARY:"Todos los colores son los colores de las flores". Nueva exposició
 n de Mina K
END:VEVENT
BEGIN:VEVENT
DTSTAMP:20260423T102852Z
UID:event-15747-2025-03-25T17:00:00+01:00-2025-03-25T20:00:00+01:00
DTSTART;TZID=Europe/Madrid:20250325T170000
DTEND;TZID=Europe/Madrid:20250325T200000
DESCRIPTION:La exposición se plantea como una continuación artística de 
 la experiencia sensible y natural de la visita a un jardín repleto\; una 
 visita que aspira\, con la flor como símbolo\, a ser espejo de la belleza
 .
SUMMARY:"Todos los colores son los colores de las flores". Nueva exposició
 n de Mina K
END:VEVENT
BEGIN:VEVENT
DTSTAMP:20260423T102852Z
UID:event-15747-2025-03-26T17:00:00+01:00-2025-03-26T20:00:00+01:00
DTSTART;TZID=Europe/Madrid:20250326T170000
DTEND;TZID=Europe/Madrid:20250326T200000
DESCRIPTION:La exposición se plantea como una continuación artística de 
 la experiencia sensible y natural de la visita a un jardín repleto\; una 
 visita que aspira\, con la flor como símbolo\, a ser espejo de la belleza
 .
SUMMARY:"Todos los colores son los colores de las flores". Nueva exposició
 n de Mina K
END:VEVENT
BEGIN:VEVENT
DTSTAMP:20260423T102852Z
UID:event-15747-2025-03-27T17:00:00+01:00-2025-03-27T20:00:00+01:00
DTSTART;TZID=Europe/Madrid:20250327T170000
DTEND;TZID=Europe/Madrid:20250327T200000
DESCRIPTION:La exposición se plantea como una continuación artística de 
 la experiencia sensible y natural de la visita a un jardín repleto\; una 
 visita que aspira\, con la flor como símbolo\, a ser espejo de la belleza
 .
SUMMARY:"Todos los colores son los colores de las flores". Nueva exposició
 n de Mina K
END:VEVENT
BEGIN:VEVENT
DTSTAMP:20260423T102852Z
UID:event-15747-2025-03-28T17:00:00+01:00-2025-03-28T20:00:00+01:00
DTSTART;TZID=Europe/Madrid:20250328T170000
DTEND;TZID=Europe/Madrid:20250328T200000
DESCRIPTION:La exposición se plantea como una continuación artística de 
 la experiencia sensible y natural de la visita a un jardín repleto\; una 
 visita que aspira\, con la flor como símbolo\, a ser espejo de la belleza
 .
SUMMARY:"Todos los colores son los colores de las flores". Nueva exposició
 n de Mina K
END:VEVENT
BEGIN:VEVENT
DTSTAMP:20260423T102852Z
UID:event-15747-2025-03-29T17:00:00+01:00-2025-03-29T20:00:00+01:00
DTSTART;TZID=Europe/Madrid:20250329T170000
DTEND;TZID=Europe/Madrid:20250329T200000
DESCRIPTION:La exposición se plantea como una continuación artística de 
 la experiencia sensible y natural de la visita a un jardín repleto\; una 
 visita que aspira\, con la flor como símbolo\, a ser espejo de la belleza
 .
SUMMARY:"Todos los colores son los colores de las flores". Nueva exposició
 n de Mina K
END:VEVENT
BEGIN:VEVENT
DTSTAMP:20260423T102852Z
UID:event-15747-2025-03-30T17:00:00+02:00-2025-03-30T20:00:00+02:00
DTSTART;TZID=Europe/Madrid:20250330T170000
DTEND;TZID=Europe/Madrid:20250330T200000
DESCRIPTION:La exposición se plantea como una continuación artística de 
 la experiencia sensible y natural de la visita a un jardín repleto\; una 
 visita que aspira\, con la flor como símbolo\, a ser espejo de la belleza
 .
SUMMARY:"Todos los colores son los colores de las flores". Nueva exposició
 n de Mina K
END:VEVENT
BEGIN:VEVENT
DTSTAMP:20260423T102852Z
UID:event-15747-2025-03-31T17:00:00+02:00-2025-03-31T20:00:00+02:00
DTSTART;TZID=Europe/Madrid:20250331T170000
DTEND;TZID=Europe/Madrid:20250331T200000
DESCRIPTION:La exposición se plantea como una continuación artística de 
 la experiencia sensible y natural de la visita a un jardín repleto\; una 
 visita que aspira\, con la flor como símbolo\, a ser espejo de la belleza
 .
SUMMARY:"Todos los colores son los colores de las flores". Nueva exposició
 n de Mina K
END:VEVENT
BEGIN:VEVENT
DTSTAMP:20260423T102852Z
UID:event-15747-2025-04-01T17:00:00+02:00-2025-04-01T20:00:00+02:00
DTSTART;TZID=Europe/Madrid:20250401T170000
DTEND;TZID=Europe/Madrid:20250401T200000
DESCRIPTION:La exposición se plantea como una continuación artística de 
 la experiencia sensible y natural de la visita a un jardín repleto\; una 
 visita que aspira\, con la flor como símbolo\, a ser espejo de la belleza
 .
SUMMARY:"Todos los colores son los colores de las flores". Nueva exposició
 n de Mina K
END:VEVENT
BEGIN:VEVENT
DTSTAMP:20260423T102852Z
UID:event-15747-2025-04-02T17:00:00+02:00-2025-04-02T20:00:00+02:00
DTSTART;TZID=Europe/Madrid:20250402T170000
DTEND;TZID=Europe/Madrid:20250402T200000
DESCRIPTION:La exposición se plantea como una continuación artística de 
 la experiencia sensible y natural de la visita a un jardín repleto\; una 
 visita que aspira\, con la flor como símbolo\, a ser espejo de la belleza
 .
SUMMARY:"Todos los colores son los colores de las flores". Nueva exposició
 n de Mina K
END:VEVENT
BEGIN:VEVENT
DTSTAMP:20260423T102852Z
UID:event-15747-2025-04-03T17:00:00+02:00-2025-04-03T20:00:00+02:00
DTSTART;TZID=Europe/Madrid:20250403T170000
DTEND;TZID=Europe/Madrid:20250403T200000
DESCRIPTION:La exposición se plantea como una continuación artística de 
 la experiencia sensible y natural de la visita a un jardín repleto\; una 
 visita que aspira\, con la flor como símbolo\, a ser espejo de la belleza
 .
SUMMARY:"Todos los colores son los colores de las flores". Nueva exposició
 n de Mina K
END:VEVENT
BEGIN:VEVENT
DTSTAMP:20260423T102852Z
UID:event-15747-2025-04-04T17:00:00+02:00-2025-04-04T20:00:00+02:00
DTSTART;TZID=Europe/Madrid:20250404T170000
DTEND;TZID=Europe/Madrid:20250404T200000
DESCRIPTION:La exposición se plantea como una continuación artística de 
 la experiencia sensible y natural de la visita a un jardín repleto\; una 
 visita que aspira\, con la flor como símbolo\, a ser espejo de la belleza
 .
SUMMARY:"Todos los colores son los colores de las flores". Nueva exposició
 n de Mina K
END:VEVENT
BEGIN:VEVENT
DTSTAMP:20260423T102852Z
UID:event-15747-2025-04-05T17:00:00+02:00-2025-04-05T20:00:00+02:00
DTSTART;TZID=Europe/Madrid:20250405T170000
DTEND;TZID=Europe/Madrid:20250405T200000
DESCRIPTION:La exposición se plantea como una continuación artística de 
 la experiencia sensible y natural de la visita a un jardín repleto\; una 
 visita que aspira\, con la flor como símbolo\, a ser espejo de la belleza
 .
SUMMARY:"Todos los colores son los colores de las flores". Nueva exposició
 n de Mina K
END:VEVENT
BEGIN:VEVENT
DTSTAMP:20260423T102852Z
UID:event-15747-2025-04-06T17:00:00+02:00-2025-04-06T20:00:00+02:00
DTSTART;TZID=Europe/Madrid:20250406T170000
DTEND;TZID=Europe/Madrid:20250406T200000
DESCRIPTION:La exposición se plantea como una continuación artística de 
 la experiencia sensible y natural de la visita a un jardín repleto\; una 
 visita que aspira\, con la flor como símbolo\, a ser espejo de la belleza
 .
SUMMARY:"Todos los colores son los colores de las flores". Nueva exposició
 n de Mina K
END:VEVENT
BEGIN:VEVENT
DTSTAMP:20260423T102852Z
UID:event-15747-2025-04-07T17:00:00+02:00-2025-04-07T20:00:00+02:00
DTSTART;TZID=Europe/Madrid:20250407T170000
DTEND;TZID=Europe/Madrid:20250407T200000
DESCRIPTION:La exposición se plantea como una continuación artística de 
 la experiencia sensible y natural de la visita a un jardín repleto\; una 
 visita que aspira\, con la flor como símbolo\, a ser espejo de la belleza
 .
SUMMARY:"Todos los colores son los colores de las flores". Nueva exposició
 n de Mina K
END:VEVENT
BEGIN:VEVENT
DTSTAMP:20260423T102852Z
UID:event-15747-2025-04-08T17:00:00+02:00-2025-04-08T20:00:00+02:00
DTSTART;TZID=Europe/Madrid:20250408T170000
DTEND;TZID=Europe/Madrid:20250408T200000
DESCRIPTION:La exposición se plantea como una continuación artística de 
 la experiencia sensible y natural de la visita a un jardín repleto\; una 
 visita que aspira\, con la flor como símbolo\, a ser espejo de la belleza
 .
SUMMARY:"Todos los colores son los colores de las flores". Nueva exposició
 n de Mina K
END:VEVENT
BEGIN:VEVENT
DTSTAMP:20260423T102852Z
UID:event-15747-2025-04-09T17:00:00+02:00-2025-04-09T20:00:00+02:00
DTSTART;TZID=Europe/Madrid:20250409T170000
DTEND;TZID=Europe/Madrid:20250409T200000
DESCRIPTION:La exposición se plantea como una continuación artística de 
 la experiencia sensible y natural de la visita a un jardín repleto\; una 
 visita que aspira\, con la flor como símbolo\, a ser espejo de la belleza
 .
SUMMARY:"Todos los colores son los colores de las flores". Nueva exposició
 n de Mina K
END:VEVENT
BEGIN:VEVENT
DTSTAMP:20260423T102852Z
UID:event-15747-2025-04-10T17:00:00+02:00-2025-04-10T20:00:00+02:00
DTSTART;TZID=Europe/Madrid:20250410T170000
DTEND;TZID=Europe/Madrid:20250410T200000
DESCRIPTION:La exposición se plantea como una continuación artística de 
 la experiencia sensible y natural de la visita a un jardín repleto\; una 
 visita que aspira\, con la flor como símbolo\, a ser espejo de la belleza
 .
SUMMARY:"Todos los colores son los colores de las flores". Nueva exposició
 n de Mina K
END:VEVENT
BEGIN:VEVENT
DTSTAMP:20260423T102852Z
UID:event-15747-2025-04-11T17:00:00+02:00-2025-04-11T20:00:00+02:00
DTSTART;TZID=Europe/Madrid:20250411T170000
DTEND;TZID=Europe/Madrid:20250411T200000
DESCRIPTION:La exposición se plantea como una continuación artística de 
 la experiencia sensible y natural de la visita a un jardín repleto\; una 
 visita que aspira\, con la flor como símbolo\, a ser espejo de la belleza
 .
SUMMARY:"Todos los colores son los colores de las flores". Nueva exposició
 n de Mina K
END:VEVENT
BEGIN:VEVENT
DTSTAMP:20260423T102852Z
UID:event-15747-2025-04-12T17:00:00+02:00-2025-04-12T20:00:00+02:00
DTSTART;TZID=Europe/Madrid:20250412T170000
DTEND;TZID=Europe/Madrid:20250412T200000
DESCRIPTION:La exposición se plantea como una continuación artística de 
 la experiencia sensible y natural de la visita a un jardín repleto\; una 
 visita que aspira\, con la flor como símbolo\, a ser espejo de la belleza
 .
SUMMARY:"Todos los colores son los colores de las flores". Nueva exposició
 n de Mina K
END:VEVENT
BEGIN:VEVENT
DTSTAMP:20260423T102852Z
UID:event-15747-2025-04-13T17:00:00+02:00-2025-04-13T20:00:00+02:00
DTSTART;TZID=Europe/Madrid:20250413T170000
DTEND;TZID=Europe/Madrid:20250413T200000
DESCRIPTION:La exposición se plantea como una continuación artística de 
 la experiencia sensible y natural de la visita a un jardín repleto\; una 
 visita que aspira\, con la flor como símbolo\, a ser espejo de la belleza
 .
SUMMARY:"Todos los colores son los colores de las flores". Nueva exposició
 n de Mina K
END:VEVENT
BEGIN:VEVENT
DTSTAMP:20260423T102852Z
UID:event-15747-2025-04-14T17:00:00+02:00-2025-04-14T20:00:00+02:00
DTSTART;TZID=Europe/Madrid:20250414T170000
DTEND;TZID=Europe/Madrid:20250414T200000
DESCRIPTION:La exposición se plantea como una continuación artística de 
 la experiencia sensible y natural de la visita a un jardín repleto\; una 
 visita que aspira\, con la flor como símbolo\, a ser espejo de la belleza
 .
SUMMARY:"Todos los colores son los colores de las flores". Nueva exposició
 n de Mina K
END:VEVENT
BEGIN:VEVENT
DTSTAMP:20260423T102852Z
UID:event-15747-2025-04-15T17:00:00+02:00-2025-04-15T20:00:00+02:00
DTSTART;TZID=Europe/Madrid:20250415T170000
DTEND;TZID=Europe/Madrid:20250415T200000
DESCRIPTION:La exposición se plantea como una continuación artística de 
 la experiencia sensible y natural de la visita a un jardín repleto\; una 
 visita que aspira\, con la flor como símbolo\, a ser espejo de la belleza
 .
SUMMARY:"Todos los colores son los colores de las flores". Nueva exposició
 n de Mina K
END:VEVENT
BEGIN:VEVENT
DTSTAMP:20260423T102852Z
UID:event-15747-2025-04-16T17:00:00+02:00-2025-04-16T20:00:00+02:00
DTSTART;TZID=Europe/Madrid:20250416T170000
DTEND;TZID=Europe/Madrid:20250416T200000
DESCRIPTION:La exposición se plantea como una continuación artística de 
 la experiencia sensible y natural de la visita a un jardín repleto\; una 
 visita que aspira\, con la flor como símbolo\, a ser espejo de la belleza
 .
SUMMARY:"Todos los colores son los colores de las flores". Nueva exposició
 n de Mina K
END:VEVENT
BEGIN:VEVENT
DTSTAMP:20260423T102852Z
UID:event-15747-2025-04-17T17:00:00+02:00-2025-04-17T20:00:00+02:00
DTSTART;TZID=Europe/Madrid:20250417T170000
DTEND;TZID=Europe/Madrid:20250417T200000
DESCRIPTION:La exposición se plantea como una continuación artística de 
 la experiencia sensible y natural de la visita a un jardín repleto\; una 
 visita que aspira\, con la flor como símbolo\, a ser espejo de la belleza
 .
SUMMARY:"Todos los colores son los colores de las flores". Nueva exposició
 n de Mina K
END:VEVENT
BEGIN:VEVENT
DTSTAMP:20260423T102852Z
UID:event-15747-2025-04-18T17:00:00+02:00-2025-04-18T20:00:00+02:00
DTSTART;TZID=Europe/Madrid:20250418T170000
DTEND;TZID=Europe/Madrid:20250418T200000
DESCRIPTION:La exposición se plantea como una continuación artística de 
 la experiencia sensible y natural de la visita a un jardín repleto\; una 
 visita que aspira\, con la flor como símbolo\, a ser espejo de la belleza
 .
SUMMARY:"Todos los colores son los colores de las flores". Nueva exposició
 n de Mina K
END:VEVENT
BEGIN:VEVENT
DTSTAMP:20260423T102852Z
UID:event-15747-2025-04-19T17:00:00+02:00-2025-04-19T20:00:00+02:00
DTSTART;TZID=Europe/Madrid:20250419T170000
DTEND;TZID=Europe/Madrid:20250419T200000
DESCRIPTION:La exposición se plantea como una continuación artística de 
 la experiencia sensible y natural de la visita a un jardín repleto\; una 
 visita que aspira\, con la flor como símbolo\, a ser espejo de la belleza
 .
SUMMARY:"Todos los colores son los colores de las flores". Nueva exposició
 n de Mina K
END:VEVENT
BEGIN:VEVENT
DTSTAMP:20260423T102852Z
UID:event-15747-2025-04-20T17:00:00+02:00-2025-04-20T20:00:00+02:00
DTSTART;TZID=Europe/Madrid:20250420T170000
DTEND;TZID=Europe/Madrid:20250420T200000
DESCRIPTION:La exposición se plantea como una continuación artística de 
 la experiencia sensible y natural de la visita a un jardín repleto\; una 
 visita que aspira\, con la flor como símbolo\, a ser espejo de la belleza
 .
SUMMARY:"Todos los colores son los colores de las flores". Nueva exposició
 n de Mina K
END:VEVENT
BEGIN:VEVENT
DTSTAMP:20260423T102852Z
UID:event-15747-2025-04-21T17:00:00+02:00-2025-04-21T20:00:00+02:00
DTSTART;TZID=Europe/Madrid:20250421T170000
DTEND;TZID=Europe/Madrid:20250421T200000
DESCRIPTION:La exposición se plantea como una continuación artística de 
 la experiencia sensible y natural de la visita a un jardín repleto\; una 
 visita que aspira\, con la flor como símbolo\, a ser espejo de la belleza
 .
SUMMARY:"Todos los colores son los colores de las flores". Nueva exposició
 n de Mina K
END:VEVENT
BEGIN:VEVENT
DTSTAMP:20260423T102852Z
UID:event-15747-2025-04-22T17:00:00+02:00-2025-04-22T20:00:00+02:00
DTSTART;TZID=Europe/Madrid:20250422T170000
DTEND;TZID=Europe/Madrid:20250422T200000
DESCRIPTION:La exposición se plantea como una continuación artística de 
 la experiencia sensible y natural de la visita a un jardín repleto\; una 
 visita que aspira\, con la flor como símbolo\, a ser espejo de la belleza
 .
SUMMARY:"Todos los colores son los colores de las flores". Nueva exposició
 n de Mina K
END:VEVENT
BEGIN:VEVENT
DTSTAMP:20260423T102852Z
UID:event-15747-2025-04-23T17:00:00+02:00-2025-04-23T20:00:00+02:00
DTSTART;TZID=Europe/Madrid:20250423T170000
DTEND;TZID=Europe/Madrid:20250423T200000
DESCRIPTION:La exposición se plantea como una continuación artística de 
 la experiencia sensible y natural de la visita a un jardín repleto\; una 
 visita que aspira\, con la flor como símbolo\, a ser espejo de la belleza
 .
SUMMARY:"Todos los colores son los colores de las flores". Nueva exposició
 n de Mina K
END:VEVENT
BEGIN:VEVENT
DTSTAMP:20260423T102852Z
UID:event-15747-2025-04-24T17:00:00+02:00-2025-04-24T20:00:00+02:00
DTSTART;TZID=Europe/Madrid:20250424T170000
DTEND;TZID=Europe/Madrid:20250424T200000
DESCRIPTION:La exposición se plantea como una continuación artística de 
 la experiencia sensible y natural de la visita a un jardín repleto\; una 
 visita que aspira\, con la flor como símbolo\, a ser espejo de la belleza
 .
SUMMARY:"Todos los colores son los colores de las flores". Nueva exposició
 n de Mina K
END:VEVENT
BEGIN:VEVENT
DTSTAMP:20260423T102852Z
UID:event-15747-2025-04-25T17:00:00+02:00-2025-04-25T20:00:00+02:00
DTSTART;TZID=Europe/Madrid:20250425T170000
DTEND;TZID=Europe/Madrid:20250425T200000
DESCRIPTION:La exposición se plantea como una continuación artística de 
 la experiencia sensible y natural de la visita a un jardín repleto\; una 
 visita que aspira\, con la flor como símbolo\, a ser espejo de la belleza
 .
SUMMARY:"Todos los colores son los colores de las flores". Nueva exposició
 n de Mina K
END:VEVENT
BEGIN:VEVENT
DTSTAMP:20260423T102852Z
UID:event-15747-2025-04-26T17:00:00+02:00-2025-04-26T20:00:00+02:00
DTSTART;TZID=Europe/Madrid:20250426T170000
DTEND;TZID=Europe/Madrid:20250426T200000
DESCRIPTION:La exposición se plantea como una continuación artística de 
 la experiencia sensible y natural de la visita a un jardín repleto\; una 
 visita que aspira\, con la flor como símbolo\, a ser espejo de la belleza
 .
SUMMARY:"Todos los colores son los colores de las flores". Nueva exposició
 n de Mina K
END:VEVENT
BEGIN:VEVENT
DTSTAMP:20260423T102852Z
UID:event-15747-2025-04-27T17:00:00+02:00-2025-04-27T20:00:00+02:00
DTSTART;TZID=Europe/Madrid:20250427T170000
DTEND;TZID=Europe/Madrid:20250427T200000
DESCRIPTION:La exposición se plantea como una continuación artística de 
 la experiencia sensible y natural de la visita a un jardín repleto\; una 
 visita que aspira\, con la flor como símbolo\, a ser espejo de la belleza
 .
SUMMARY:"Todos los colores son los colores de las flores". Nueva exposició
 n de Mina K
END:VEVENT
BEGIN:VEVENT
DTSTAMP:20260423T102852Z
UID:event-15747-2025-04-28T17:00:00+02:00-2025-04-28T20:00:00+02:00
DTSTART;TZID=Europe/Madrid:20250428T170000
DTEND;TZID=Europe/Madrid:20250428T200000
DESCRIPTION:La exposición se plantea como una continuación artística de 
 la experiencia sensible y natural de la visita a un jardín repleto\; una 
 visita que aspira\, con la flor como símbolo\, a ser espejo de la belleza
 .
SUMMARY:"Todos los colores son los colores de las flores". Nueva exposició
 n de Mina K
END:VEVENT
END:VCALENDAR
