BEGIN:VCALENDAR
VERSION:2.0
PRODID:icalendar-ruby
CALSCALE:GREGORIAN
METHOD:PUBLISH
BEGIN:VEVENT
DTSTAMP:20260420T161841Z
UID:event-20585-2026-08-28T19:00:00+02:00-none
DTSTART;TZID=Europe/Madrid:20260828T190000
DESCRIPTION:El 28 de agosto pasaremos ‘Una tarde con nuestros Coros’\, 
 de la mano del Coro Ronda El Tuberuco\, la Coral Jorge Manrique\, y el Cor
 o Santa María de Cueto.
SUMMARY:Una tarde con nuestros Coros dentro del ciclo "Folclore en todas la
 s estaciones"
END:VEVENT
END:VCALENDAR
