BEGIN:VCALENDAR
VERSION:2.0
PRODID:icalendar-ruby
CALSCALE:GREGORIAN
METHOD:PUBLISH
BEGIN:VEVENT
DTSTAMP:20260423T102431Z
UID:event-4694-2023-01-20T11:00:00+01:00-2023-01-20T19:00:00+01:00
DTSTART;TZID=Europe/Madrid:20230120T110000
DTEND;TZID=Europe/Madrid:20230120T190000
DESCRIPTION:Alvar Mena reutiliza la imaginería de los bestiarios medievale
 s junto con los repertorios actuales de los estudios de tatuajes o los car
 teles de los ídolos adolescentes para crear sus propias composiciones\, l
 lenas de ironía y mordacidad. 
SUMMARY:"Vamos playa"\, primera exposición individual de Alvar Mena
END:VEVENT
BEGIN:VEVENT
DTSTAMP:20260423T102431Z
UID:event-4694-2023-01-24T11:00:00+01:00-2023-01-24T19:00:00+01:00
DTSTART;TZID=Europe/Madrid:20230124T110000
DTEND;TZID=Europe/Madrid:20230124T190000
DESCRIPTION:Alvar Mena reutiliza la imaginería de los bestiarios medievale
 s junto con los repertorios actuales de los estudios de tatuajes o los car
 teles de los ídolos adolescentes para crear sus propias composiciones\, l
 lenas de ironía y mordacidad. 
SUMMARY:"Vamos playa"\, primera exposición individual de Alvar Mena
END:VEVENT
BEGIN:VEVENT
DTSTAMP:20260423T102431Z
UID:event-4694-2023-01-25T11:00:00+01:00-2023-01-25T19:00:00+01:00
DTSTART;TZID=Europe/Madrid:20230125T110000
DTEND;TZID=Europe/Madrid:20230125T190000
DESCRIPTION:Alvar Mena reutiliza la imaginería de los bestiarios medievale
 s junto con los repertorios actuales de los estudios de tatuajes o los car
 teles de los ídolos adolescentes para crear sus propias composiciones\, l
 lenas de ironía y mordacidad. 
SUMMARY:"Vamos playa"\, primera exposición individual de Alvar Mena
END:VEVENT
BEGIN:VEVENT
DTSTAMP:20260423T102431Z
UID:event-4694-2023-01-26T11:00:00+01:00-2023-01-26T19:00:00+01:00
DTSTART;TZID=Europe/Madrid:20230126T110000
DTEND;TZID=Europe/Madrid:20230126T190000
DESCRIPTION:Alvar Mena reutiliza la imaginería de los bestiarios medievale
 s junto con los repertorios actuales de los estudios de tatuajes o los car
 teles de los ídolos adolescentes para crear sus propias composiciones\, l
 lenas de ironía y mordacidad. 
SUMMARY:"Vamos playa"\, primera exposición individual de Alvar Mena
END:VEVENT
BEGIN:VEVENT
DTSTAMP:20260423T102431Z
UID:event-4694-2023-01-27T11:00:00+01:00-2023-01-27T19:00:00+01:00
DTSTART;TZID=Europe/Madrid:20230127T110000
DTEND;TZID=Europe/Madrid:20230127T190000
DESCRIPTION:Alvar Mena reutiliza la imaginería de los bestiarios medievale
 s junto con los repertorios actuales de los estudios de tatuajes o los car
 teles de los ídolos adolescentes para crear sus propias composiciones\, l
 lenas de ironía y mordacidad. 
SUMMARY:"Vamos playa"\, primera exposición individual de Alvar Mena
END:VEVENT
BEGIN:VEVENT
DTSTAMP:20260423T102431Z
UID:event-4694-2023-01-31T11:00:00+01:00-2023-01-31T19:00:00+01:00
DTSTART;TZID=Europe/Madrid:20230131T110000
DTEND;TZID=Europe/Madrid:20230131T190000
DESCRIPTION:Alvar Mena reutiliza la imaginería de los bestiarios medievale
 s junto con los repertorios actuales de los estudios de tatuajes o los car
 teles de los ídolos adolescentes para crear sus propias composiciones\, l
 lenas de ironía y mordacidad. 
SUMMARY:"Vamos playa"\, primera exposición individual de Alvar Mena
END:VEVENT
BEGIN:VEVENT
DTSTAMP:20260423T102431Z
UID:event-4694-2023-02-01T11:00:00+01:00-2023-02-01T19:00:00+01:00
DTSTART;TZID=Europe/Madrid:20230201T110000
DTEND;TZID=Europe/Madrid:20230201T190000
DESCRIPTION:Alvar Mena reutiliza la imaginería de los bestiarios medievale
 s junto con los repertorios actuales de los estudios de tatuajes o los car
 teles de los ídolos adolescentes para crear sus propias composiciones\, l
 lenas de ironía y mordacidad. 
SUMMARY:"Vamos playa"\, primera exposición individual de Alvar Mena
END:VEVENT
BEGIN:VEVENT
DTSTAMP:20260423T102431Z
UID:event-4694-2023-02-02T11:00:00+01:00-2023-02-02T19:00:00+01:00
DTSTART;TZID=Europe/Madrid:20230202T110000
DTEND;TZID=Europe/Madrid:20230202T190000
DESCRIPTION:Alvar Mena reutiliza la imaginería de los bestiarios medievale
 s junto con los repertorios actuales de los estudios de tatuajes o los car
 teles de los ídolos adolescentes para crear sus propias composiciones\, l
 lenas de ironía y mordacidad. 
SUMMARY:"Vamos playa"\, primera exposición individual de Alvar Mena
END:VEVENT
BEGIN:VEVENT
DTSTAMP:20260423T102431Z
UID:event-4694-2023-02-03T11:00:00+01:00-2023-02-03T19:00:00+01:00
DTSTART;TZID=Europe/Madrid:20230203T110000
DTEND;TZID=Europe/Madrid:20230203T190000
DESCRIPTION:Alvar Mena reutiliza la imaginería de los bestiarios medievale
 s junto con los repertorios actuales de los estudios de tatuajes o los car
 teles de los ídolos adolescentes para crear sus propias composiciones\, l
 lenas de ironía y mordacidad. 
SUMMARY:"Vamos playa"\, primera exposición individual de Alvar Mena
END:VEVENT
BEGIN:VEVENT
DTSTAMP:20260423T102431Z
UID:event-4694-2023-02-07T11:00:00+01:00-2023-02-07T19:00:00+01:00
DTSTART;TZID=Europe/Madrid:20230207T110000
DTEND;TZID=Europe/Madrid:20230207T190000
DESCRIPTION:Alvar Mena reutiliza la imaginería de los bestiarios medievale
 s junto con los repertorios actuales de los estudios de tatuajes o los car
 teles de los ídolos adolescentes para crear sus propias composiciones\, l
 lenas de ironía y mordacidad. 
SUMMARY:"Vamos playa"\, primera exposición individual de Alvar Mena
END:VEVENT
BEGIN:VEVENT
DTSTAMP:20260423T102431Z
UID:event-4694-2023-02-08T11:00:00+01:00-2023-02-08T19:00:00+01:00
DTSTART;TZID=Europe/Madrid:20230208T110000
DTEND;TZID=Europe/Madrid:20230208T190000
DESCRIPTION:Alvar Mena reutiliza la imaginería de los bestiarios medievale
 s junto con los repertorios actuales de los estudios de tatuajes o los car
 teles de los ídolos adolescentes para crear sus propias composiciones\, l
 lenas de ironía y mordacidad. 
SUMMARY:"Vamos playa"\, primera exposición individual de Alvar Mena
END:VEVENT
BEGIN:VEVENT
DTSTAMP:20260423T102431Z
UID:event-4694-2023-02-09T11:00:00+01:00-2023-02-09T19:00:00+01:00
DTSTART;TZID=Europe/Madrid:20230209T110000
DTEND;TZID=Europe/Madrid:20230209T190000
DESCRIPTION:Alvar Mena reutiliza la imaginería de los bestiarios medievale
 s junto con los repertorios actuales de los estudios de tatuajes o los car
 teles de los ídolos adolescentes para crear sus propias composiciones\, l
 lenas de ironía y mordacidad. 
SUMMARY:"Vamos playa"\, primera exposición individual de Alvar Mena
END:VEVENT
BEGIN:VEVENT
DTSTAMP:20260423T102431Z
UID:event-4694-2023-02-10T11:00:00+01:00-2023-02-10T19:00:00+01:00
DTSTART;TZID=Europe/Madrid:20230210T110000
DTEND;TZID=Europe/Madrid:20230210T190000
DESCRIPTION:Alvar Mena reutiliza la imaginería de los bestiarios medievale
 s junto con los repertorios actuales de los estudios de tatuajes o los car
 teles de los ídolos adolescentes para crear sus propias composiciones\, l
 lenas de ironía y mordacidad. 
SUMMARY:"Vamos playa"\, primera exposición individual de Alvar Mena
END:VEVENT
BEGIN:VEVENT
DTSTAMP:20260423T102431Z
UID:event-4694-2023-02-14T11:00:00+01:00-2023-02-14T19:00:00+01:00
DTSTART;TZID=Europe/Madrid:20230214T110000
DTEND;TZID=Europe/Madrid:20230214T190000
DESCRIPTION:Alvar Mena reutiliza la imaginería de los bestiarios medievale
 s junto con los repertorios actuales de los estudios de tatuajes o los car
 teles de los ídolos adolescentes para crear sus propias composiciones\, l
 lenas de ironía y mordacidad. 
SUMMARY:"Vamos playa"\, primera exposición individual de Alvar Mena
END:VEVENT
BEGIN:VEVENT
DTSTAMP:20260423T102431Z
UID:event-4694-2023-02-15T11:00:00+01:00-2023-02-15T19:00:00+01:00
DTSTART;TZID=Europe/Madrid:20230215T110000
DTEND;TZID=Europe/Madrid:20230215T190000
DESCRIPTION:Alvar Mena reutiliza la imaginería de los bestiarios medievale
 s junto con los repertorios actuales de los estudios de tatuajes o los car
 teles de los ídolos adolescentes para crear sus propias composiciones\, l
 lenas de ironía y mordacidad. 
SUMMARY:"Vamos playa"\, primera exposición individual de Alvar Mena
END:VEVENT
BEGIN:VEVENT
DTSTAMP:20260423T102431Z
UID:event-4694-2023-02-16T11:00:00+01:00-2023-02-16T19:00:00+01:00
DTSTART;TZID=Europe/Madrid:20230216T110000
DTEND;TZID=Europe/Madrid:20230216T190000
DESCRIPTION:Alvar Mena reutiliza la imaginería de los bestiarios medievale
 s junto con los repertorios actuales de los estudios de tatuajes o los car
 teles de los ídolos adolescentes para crear sus propias composiciones\, l
 lenas de ironía y mordacidad. 
SUMMARY:"Vamos playa"\, primera exposición individual de Alvar Mena
END:VEVENT
BEGIN:VEVENT
DTSTAMP:20260423T102431Z
UID:event-4694-2023-02-17T11:00:00+01:00-2023-02-17T19:00:00+01:00
DTSTART;TZID=Europe/Madrid:20230217T110000
DTEND;TZID=Europe/Madrid:20230217T190000
DESCRIPTION:Alvar Mena reutiliza la imaginería de los bestiarios medievale
 s junto con los repertorios actuales de los estudios de tatuajes o los car
 teles de los ídolos adolescentes para crear sus propias composiciones\, l
 lenas de ironía y mordacidad. 
SUMMARY:"Vamos playa"\, primera exposición individual de Alvar Mena
END:VEVENT
BEGIN:VEVENT
DTSTAMP:20260423T102431Z
UID:event-4694-2023-02-21T11:00:00+01:00-2023-02-21T19:00:00+01:00
DTSTART;TZID=Europe/Madrid:20230221T110000
DTEND;TZID=Europe/Madrid:20230221T190000
DESCRIPTION:Alvar Mena reutiliza la imaginería de los bestiarios medievale
 s junto con los repertorios actuales de los estudios de tatuajes o los car
 teles de los ídolos adolescentes para crear sus propias composiciones\, l
 lenas de ironía y mordacidad. 
SUMMARY:"Vamos playa"\, primera exposición individual de Alvar Mena
END:VEVENT
BEGIN:VEVENT
DTSTAMP:20260423T102431Z
UID:event-4694-2023-02-22T11:00:00+01:00-2023-02-22T19:00:00+01:00
DTSTART;TZID=Europe/Madrid:20230222T110000
DTEND;TZID=Europe/Madrid:20230222T190000
DESCRIPTION:Alvar Mena reutiliza la imaginería de los bestiarios medievale
 s junto con los repertorios actuales de los estudios de tatuajes o los car
 teles de los ídolos adolescentes para crear sus propias composiciones\, l
 lenas de ironía y mordacidad. 
SUMMARY:"Vamos playa"\, primera exposición individual de Alvar Mena
END:VEVENT
BEGIN:VEVENT
DTSTAMP:20260423T102431Z
UID:event-4694-2023-02-23T11:00:00+01:00-2023-02-23T19:00:00+01:00
DTSTART;TZID=Europe/Madrid:20230223T110000
DTEND;TZID=Europe/Madrid:20230223T190000
DESCRIPTION:Alvar Mena reutiliza la imaginería de los bestiarios medievale
 s junto con los repertorios actuales de los estudios de tatuajes o los car
 teles de los ídolos adolescentes para crear sus propias composiciones\, l
 lenas de ironía y mordacidad. 
SUMMARY:"Vamos playa"\, primera exposición individual de Alvar Mena
END:VEVENT
BEGIN:VEVENT
DTSTAMP:20260423T102431Z
UID:event-4694-2023-02-24T11:00:00+01:00-2023-02-24T19:00:00+01:00
DTSTART;TZID=Europe/Madrid:20230224T110000
DTEND;TZID=Europe/Madrid:20230224T190000
DESCRIPTION:Alvar Mena reutiliza la imaginería de los bestiarios medievale
 s junto con los repertorios actuales de los estudios de tatuajes o los car
 teles de los ídolos adolescentes para crear sus propias composiciones\, l
 lenas de ironía y mordacidad. 
SUMMARY:"Vamos playa"\, primera exposición individual de Alvar Mena
END:VEVENT
BEGIN:VEVENT
DTSTAMP:20260423T102431Z
UID:event-4694-2023-02-28T11:00:00+01:00-2023-02-28T19:00:00+01:00
DTSTART;TZID=Europe/Madrid:20230228T110000
DTEND;TZID=Europe/Madrid:20230228T190000
DESCRIPTION:Alvar Mena reutiliza la imaginería de los bestiarios medievale
 s junto con los repertorios actuales de los estudios de tatuajes o los car
 teles de los ídolos adolescentes para crear sus propias composiciones\, l
 lenas de ironía y mordacidad. 
SUMMARY:"Vamos playa"\, primera exposición individual de Alvar Mena
END:VEVENT
BEGIN:VEVENT
DTSTAMP:20260423T102431Z
UID:event-4694-2023-03-01T11:00:00+01:00-2023-03-01T19:00:00+01:00
DTSTART;TZID=Europe/Madrid:20230301T110000
DTEND;TZID=Europe/Madrid:20230301T190000
DESCRIPTION:Alvar Mena reutiliza la imaginería de los bestiarios medievale
 s junto con los repertorios actuales de los estudios de tatuajes o los car
 teles de los ídolos adolescentes para crear sus propias composiciones\, l
 lenas de ironía y mordacidad. 
SUMMARY:"Vamos playa"\, primera exposición individual de Alvar Mena
END:VEVENT
BEGIN:VEVENT
DTSTAMP:20260423T102431Z
UID:event-4694-2023-03-02T11:00:00+01:00-2023-03-02T19:00:00+01:00
DTSTART;TZID=Europe/Madrid:20230302T110000
DTEND;TZID=Europe/Madrid:20230302T190000
DESCRIPTION:Alvar Mena reutiliza la imaginería de los bestiarios medievale
 s junto con los repertorios actuales de los estudios de tatuajes o los car
 teles de los ídolos adolescentes para crear sus propias composiciones\, l
 lenas de ironía y mordacidad. 
SUMMARY:"Vamos playa"\, primera exposición individual de Alvar Mena
END:VEVENT
BEGIN:VEVENT
DTSTAMP:20260423T102431Z
UID:event-4694-2023-03-03T11:00:00+01:00-2023-03-03T19:00:00+01:00
DTSTART;TZID=Europe/Madrid:20230303T110000
DTEND;TZID=Europe/Madrid:20230303T190000
DESCRIPTION:Alvar Mena reutiliza la imaginería de los bestiarios medievale
 s junto con los repertorios actuales de los estudios de tatuajes o los car
 teles de los ídolos adolescentes para crear sus propias composiciones\, l
 lenas de ironía y mordacidad. 
SUMMARY:"Vamos playa"\, primera exposición individual de Alvar Mena
END:VEVENT
BEGIN:VEVENT
DTSTAMP:20260423T102431Z
UID:event-4694-2023-03-07T11:00:00+01:00-2023-03-07T19:00:00+01:00
DTSTART;TZID=Europe/Madrid:20230307T110000
DTEND;TZID=Europe/Madrid:20230307T190000
DESCRIPTION:Alvar Mena reutiliza la imaginería de los bestiarios medievale
 s junto con los repertorios actuales de los estudios de tatuajes o los car
 teles de los ídolos adolescentes para crear sus propias composiciones\, l
 lenas de ironía y mordacidad. 
SUMMARY:"Vamos playa"\, primera exposición individual de Alvar Mena
END:VEVENT
BEGIN:VEVENT
DTSTAMP:20260423T102431Z
UID:event-4694-2023-03-08T11:00:00+01:00-2023-03-08T19:00:00+01:00
DTSTART;TZID=Europe/Madrid:20230308T110000
DTEND;TZID=Europe/Madrid:20230308T190000
DESCRIPTION:Alvar Mena reutiliza la imaginería de los bestiarios medievale
 s junto con los repertorios actuales de los estudios de tatuajes o los car
 teles de los ídolos adolescentes para crear sus propias composiciones\, l
 lenas de ironía y mordacidad. 
SUMMARY:"Vamos playa"\, primera exposición individual de Alvar Mena
END:VEVENT
BEGIN:VEVENT
DTSTAMP:20260423T102431Z
UID:event-4694-2023-03-09T11:00:00+01:00-2023-03-09T19:00:00+01:00
DTSTART;TZID=Europe/Madrid:20230309T110000
DTEND;TZID=Europe/Madrid:20230309T190000
DESCRIPTION:Alvar Mena reutiliza la imaginería de los bestiarios medievale
 s junto con los repertorios actuales de los estudios de tatuajes o los car
 teles de los ídolos adolescentes para crear sus propias composiciones\, l
 lenas de ironía y mordacidad. 
SUMMARY:"Vamos playa"\, primera exposición individual de Alvar Mena
END:VEVENT
END:VCALENDAR
