BEGIN:VCALENDAR
VERSION:2.0
PRODID:icalendar-ruby
CALSCALE:GREGORIAN
METHOD:PUBLISH
BEGIN:VEVENT
DTSTAMP:20260420T160044Z
UID:event-22297-2026-05-05T10:00:00+02:00-none
DTSTART;TZID=Europe/Madrid:20260505T100000
DESCRIPTION:El 5 de mayo puedes participar en esta visita en barco por la b
 ahía de Santander que organizan los centros cívicos dentro de la campañ
 a “Vecinos turistas”.
SUMMARY:Vecinos turistas: visita en barco por la bahía
END:VEVENT
END:VCALENDAR
