BEGIN:VCALENDAR
VERSION:2.0
PRODID:icalendar-ruby
CALSCALE:GREGORIAN
METHOD:PUBLISH
BEGIN:VEVENT
DTSTAMP:20260420T163937Z
UID:event-21590-2026-05-05T19:00:00+02:00-none
DTSTART;TZID=Europe/Madrid:20260505T190000
DESCRIPTION:Con ocasión del LVIII aniversario del fallecimiento de Matilde
  de la Torre (1884-1946) el Aula Interdisciplinar Isabel Torres de Estudio
 s de las Mujeres y del Género y la Fundación Matilde de la Torre organiz
 an este ciclo sobre su figura.
SUMMARY:"Violencia política y control social tras el estallido del golpe d
 e Estado de 1936"\, por Pilar Mera Costas
END:VEVENT
END:VCALENDAR
