BEGIN:VCALENDAR
VERSION:2.0
PRODID:icalendar-ruby
CALSCALE:GREGORIAN
METHOD:PUBLISH
BEGIN:VEVENT
DTSTAMP:20260421T185843Z
UID:event-22394-2026-05-13T18:30:00+02:00-none
DTSTART;TZID=Europe/Madrid:20260513T183000
DESCRIPTION:Mikel Arce nos acercará a la obra de Yuko Mohri desde su inves
 tigación y experimentación con los recursos y posibilidades artísticas 
 de las propiedades espaciales y dimensionales del sonido.
SUMMARY:Visita comentada a la exposición de Yuko Mohri con Mikel Arce
END:VEVENT
END:VCALENDAR
