BEGIN:VCALENDAR
VERSION:2.0
PRODID:icalendar-ruby
CALSCALE:GREGORIAN
METHOD:PUBLISH
BEGIN:VEVENT
DTSTAMP:20260421T185448Z
UID:event-22401-2026-05-27T18:30:00+02:00-none
DTSTART;TZID=Europe/Madrid:20260527T183000
DESCRIPTION:Eva Alonso Mínguez\, del Departamento de Arte del Centro Botí
 n\, nos dará las claves que hacen posible este cuidado y revelador recorr
 ido por la trayectoria de Marisol\, desde los años cincuenta hasta su mue
 rte.
SUMMARY:Visita comentada a la exposición "Marisol: Cuando todo está por c
 omenzar"
END:VEVENT
END:VCALENDAR
