BEGIN:VCALENDAR
VERSION:2.0
PRODID:icalendar-ruby
CALSCALE:GREGORIAN
METHOD:PUBLISH
BEGIN:VEVENT
DTSTAMP:20260423T085243Z
UID:event-4483-2023-01-10T10:30:00+01:00-none
DTSTART;TZID=Europe/Madrid:20230110T103000
DESCRIPTION:El Museo Marítimo del Cantábrico quiere abrir sus instalacion
 es a agentes de diversos ámbitos de la región. Por ello\, han puesto en 
 marcha unas visitas guiadas especiales en enero para permitir la entrada d
 e manera gratuita a profesionales.
SUMMARY:Visitas guiadas especiales al MMC para profesionales
END:VEVENT
BEGIN:VEVENT
DTSTAMP:20260423T085243Z
UID:event-4483-2023-01-10T16:30:00+01:00-none
DTSTART;TZID=Europe/Madrid:20230110T163000
DESCRIPTION:El Museo Marítimo del Cantábrico quiere abrir sus instalacion
 es a agentes de diversos ámbitos de la región. Por ello\, han puesto en 
 marcha unas visitas guiadas especiales en enero para permitir la entrada d
 e manera gratuita a profesionales.
SUMMARY:Visitas guiadas especiales al MMC para profesionales
END:VEVENT
BEGIN:VEVENT
DTSTAMP:20260423T085243Z
UID:event-4483-2023-01-11T10:30:00+01:00-none
DTSTART;TZID=Europe/Madrid:20230111T103000
DESCRIPTION:El Museo Marítimo del Cantábrico quiere abrir sus instalacion
 es a agentes de diversos ámbitos de la región. Por ello\, han puesto en 
 marcha unas visitas guiadas especiales en enero para permitir la entrada d
 e manera gratuita a profesionales.
SUMMARY:Visitas guiadas especiales al MMC para profesionales
END:VEVENT
BEGIN:VEVENT
DTSTAMP:20260423T085243Z
UID:event-4483-2023-01-11T16:30:00+01:00-none
DTSTART;TZID=Europe/Madrid:20230111T163000
DESCRIPTION:El Museo Marítimo del Cantábrico quiere abrir sus instalacion
 es a agentes de diversos ámbitos de la región. Por ello\, han puesto en 
 marcha unas visitas guiadas especiales en enero para permitir la entrada d
 e manera gratuita a profesionales.
SUMMARY:Visitas guiadas especiales al MMC para profesionales
END:VEVENT
BEGIN:VEVENT
DTSTAMP:20260423T085243Z
UID:event-4483-2023-01-17T10:30:00+01:00-none
DTSTART;TZID=Europe/Madrid:20230117T103000
DESCRIPTION:El Museo Marítimo del Cantábrico quiere abrir sus instalacion
 es a agentes de diversos ámbitos de la región. Por ello\, han puesto en 
 marcha unas visitas guiadas especiales en enero para permitir la entrada d
 e manera gratuita a profesionales.
SUMMARY:Visitas guiadas especiales al MMC para profesionales
END:VEVENT
BEGIN:VEVENT
DTSTAMP:20260423T085243Z
UID:event-4483-2023-01-17T16:30:00+01:00-none
DTSTART;TZID=Europe/Madrid:20230117T163000
DESCRIPTION:El Museo Marítimo del Cantábrico quiere abrir sus instalacion
 es a agentes de diversos ámbitos de la región. Por ello\, han puesto en 
 marcha unas visitas guiadas especiales en enero para permitir la entrada d
 e manera gratuita a profesionales.
SUMMARY:Visitas guiadas especiales al MMC para profesionales
END:VEVENT
BEGIN:VEVENT
DTSTAMP:20260423T085243Z
UID:event-4483-2023-01-18T10:30:00+01:00-none
DTSTART;TZID=Europe/Madrid:20230118T103000
DESCRIPTION:El Museo Marítimo del Cantábrico quiere abrir sus instalacion
 es a agentes de diversos ámbitos de la región. Por ello\, han puesto en 
 marcha unas visitas guiadas especiales en enero para permitir la entrada d
 e manera gratuita a profesionales.
SUMMARY:Visitas guiadas especiales al MMC para profesionales
END:VEVENT
BEGIN:VEVENT
DTSTAMP:20260423T085243Z
UID:event-4483-2023-01-18T16:30:00+01:00-none
DTSTART;TZID=Europe/Madrid:20230118T163000
DESCRIPTION:El Museo Marítimo del Cantábrico quiere abrir sus instalacion
 es a agentes de diversos ámbitos de la región. Por ello\, han puesto en 
 marcha unas visitas guiadas especiales en enero para permitir la entrada d
 e manera gratuita a profesionales.
SUMMARY:Visitas guiadas especiales al MMC para profesionales
END:VEVENT
BEGIN:VEVENT
DTSTAMP:20260423T085243Z
UID:event-4483-2023-01-24T10:30:00+01:00-none
DTSTART;TZID=Europe/Madrid:20230124T103000
DESCRIPTION:El Museo Marítimo del Cantábrico quiere abrir sus instalacion
 es a agentes de diversos ámbitos de la región. Por ello\, han puesto en 
 marcha unas visitas guiadas especiales en enero para permitir la entrada d
 e manera gratuita a profesionales.
SUMMARY:Visitas guiadas especiales al MMC para profesionales
END:VEVENT
BEGIN:VEVENT
DTSTAMP:20260423T085243Z
UID:event-4483-2023-01-24T16:30:00+01:00-none
DTSTART;TZID=Europe/Madrid:20230124T163000
DESCRIPTION:El Museo Marítimo del Cantábrico quiere abrir sus instalacion
 es a agentes de diversos ámbitos de la región. Por ello\, han puesto en 
 marcha unas visitas guiadas especiales en enero para permitir la entrada d
 e manera gratuita a profesionales.
SUMMARY:Visitas guiadas especiales al MMC para profesionales
END:VEVENT
BEGIN:VEVENT
DTSTAMP:20260423T085243Z
UID:event-4483-2023-01-25T10:30:00+01:00-none
DTSTART;TZID=Europe/Madrid:20230125T103000
DESCRIPTION:El Museo Marítimo del Cantábrico quiere abrir sus instalacion
 es a agentes de diversos ámbitos de la región. Por ello\, han puesto en 
 marcha unas visitas guiadas especiales en enero para permitir la entrada d
 e manera gratuita a profesionales.
SUMMARY:Visitas guiadas especiales al MMC para profesionales
END:VEVENT
BEGIN:VEVENT
DTSTAMP:20260423T085243Z
UID:event-4483-2023-01-25T16:30:00+01:00-none
DTSTART;TZID=Europe/Madrid:20230125T163000
DESCRIPTION:El Museo Marítimo del Cantábrico quiere abrir sus instalacion
 es a agentes de diversos ámbitos de la región. Por ello\, han puesto en 
 marcha unas visitas guiadas especiales en enero para permitir la entrada d
 e manera gratuita a profesionales.
SUMMARY:Visitas guiadas especiales al MMC para profesionales
END:VEVENT
BEGIN:VEVENT
DTSTAMP:20260423T085243Z
UID:event-4483-2023-01-31T10:30:00+01:00-none
DTSTART;TZID=Europe/Madrid:20230131T103000
DESCRIPTION:El Museo Marítimo del Cantábrico quiere abrir sus instalacion
 es a agentes de diversos ámbitos de la región. Por ello\, han puesto en 
 marcha unas visitas guiadas especiales en enero para permitir la entrada d
 e manera gratuita a profesionales.
SUMMARY:Visitas guiadas especiales al MMC para profesionales
END:VEVENT
BEGIN:VEVENT
DTSTAMP:20260423T085243Z
UID:event-4483-2023-01-31T16:30:00+01:00-none
DTSTART;TZID=Europe/Madrid:20230131T163000
DESCRIPTION:El Museo Marítimo del Cantábrico quiere abrir sus instalacion
 es a agentes de diversos ámbitos de la región. Por ello\, han puesto en 
 marcha unas visitas guiadas especiales en enero para permitir la entrada d
 e manera gratuita a profesionales.
SUMMARY:Visitas guiadas especiales al MMC para profesionales
END:VEVENT
BEGIN:VEVENT
DTSTAMP:20260423T085243Z
UID:event-4483-2023-02-01T10:30:00+01:00-none
DTSTART;TZID=Europe/Madrid:20230201T103000
DESCRIPTION:El Museo Marítimo del Cantábrico quiere abrir sus instalacion
 es a agentes de diversos ámbitos de la región. Por ello\, han puesto en 
 marcha unas visitas guiadas especiales en enero para permitir la entrada d
 e manera gratuita a profesionales.
SUMMARY:Visitas guiadas especiales al MMC para profesionales
END:VEVENT
BEGIN:VEVENT
DTSTAMP:20260423T085243Z
UID:event-4483-2023-02-01T16:30:00+01:00-none
DTSTART;TZID=Europe/Madrid:20230201T163000
DESCRIPTION:El Museo Marítimo del Cantábrico quiere abrir sus instalacion
 es a agentes de diversos ámbitos de la región. Por ello\, han puesto en 
 marcha unas visitas guiadas especiales en enero para permitir la entrada d
 e manera gratuita a profesionales.
SUMMARY:Visitas guiadas especiales al MMC para profesionales
END:VEVENT
END:VCALENDAR
