BEGIN:VCALENDAR
VERSION:2.0
PRODID:icalendar-ruby
CALSCALE:GREGORIAN
METHOD:PUBLISH
BEGIN:VEVENT
DTSTAMP:20260420T071436Z
UID:event-22303-2026-04-20T20:30:00+02:00-none
DTSTART;TZID=Europe/Madrid:20260420T203000
DESCRIPTION:Nueva cita con la música en directo en Moondog. En esta ocasi
 ón\, Vito Bardal ofrece un concierto a partir de las 20:30h.
SUMMARY:Vito Bardal en concierto
END:VEVENT
END:VCALENDAR
