BEGIN:VCALENDAR
VERSION:2.0
PRODID:icalendar-ruby
CALSCALE:GREGORIAN
METHOD:PUBLISH
BEGIN:VEVENT
DTSTAMP:20260422T045701Z
UID:event-22369-2026-04-28T21:00:00+02:00-none
DTSTART;TZID=Europe/Madrid:20260428T210000
DESCRIPTION:Un viaje revivalista desde The Seeds y Question Mark\, pasando 
 por Los Yetis o Los Yorks\, hasta la neo-psicodelia costa oste más actual
  como Mystic Braves o Allah-Las.
SUMMARY:Viv and The Sect en concierto
END:VEVENT
END:VCALENDAR
