BEGIN:VCALENDAR
VERSION:2.0
PRODID:icalendar-ruby
CALSCALE:GREGORIAN
METHOD:PUBLISH
BEGIN:VEVENT
DTSTAMP:20260421T191632Z
UID:event-21669-2026-04-27T10:30:00+02:00-2026-04-27T13:30:00+02:00
DTSTART;TZID=Europe/Madrid:20260427T103000
DTEND;TZID=Europe/Madrid:20260427T133000
DESCRIPTION:Tres días para recuperar el juego como motor creativo\, vivir 
 experiencias nuevas y aprender a improvisar sin miedo al error para llegar
  a nuevas formas de expresarte\, perder la vergüenza y conectar con los d
 emás desde la autenticidad. 
SUMMARY:"Vivir sin guías". Taller de teatro de improvisación
END:VEVENT
BEGIN:VEVENT
DTSTAMP:20260421T191632Z
UID:event-21669-2026-04-28T10:30:00+02:00-2026-04-28T13:30:00+02:00
DTSTART;TZID=Europe/Madrid:20260428T103000
DTEND;TZID=Europe/Madrid:20260428T133000
DESCRIPTION:Tres días para recuperar el juego como motor creativo\, vivir 
 experiencias nuevas y aprender a improvisar sin miedo al error para llegar
  a nuevas formas de expresarte\, perder la vergüenza y conectar con los d
 emás desde la autenticidad. 
SUMMARY:"Vivir sin guías". Taller de teatro de improvisación
END:VEVENT
BEGIN:VEVENT
DTSTAMP:20260421T191632Z
UID:event-21669-2026-04-29T10:30:00+02:00-2026-04-29T13:30:00+02:00
DTSTART;TZID=Europe/Madrid:20260429T103000
DTEND;TZID=Europe/Madrid:20260429T133000
DESCRIPTION:Tres días para recuperar el juego como motor creativo\, vivir 
 experiencias nuevas y aprender a improvisar sin miedo al error para llegar
  a nuevas formas de expresarte\, perder la vergüenza y conectar con los d
 emás desde la autenticidad. 
SUMMARY:"Vivir sin guías". Taller de teatro de improvisación
END:VEVENT
END:VCALENDAR
