BEGIN:VCALENDAR
VERSION:2.0
PRODID:icalendar-ruby
CALSCALE:GREGORIAN
METHOD:PUBLISH
BEGIN:VEVENT
DTSTAMP:20260423T073753Z
UID:event-22383-2026-04-23T19:30:00+02:00-none
DTSTART;TZID=Europe/Madrid:20260423T193000
DESCRIPTION:Los inmensos territorios que hoy forman los Estados Unidos tien
 en en su mayoría una raíz hispana. Siendo el segundo país con más núm
 ero de hispanos\, también es el país dónde sus raíces están más desc
 uidadas. 
SUMMARY:"We the Hispanos"\, documental de José Luis Lopez-Linares
END:VEVENT
BEGIN:VEVENT
DTSTAMP:20260423T073753Z
UID:event-22383-2026-04-25T21:15:00+02:00-none
DTSTART;TZID=Europe/Madrid:20260425T211500
DESCRIPTION:Los inmensos territorios que hoy forman los Estados Unidos tien
 en en su mayoría una raíz hispana. Siendo el segundo país con más núm
 ero de hispanos\, también es el país dónde sus raíces están más desc
 uidadas. 
SUMMARY:"We the Hispanos"\, documental de José Luis Lopez-Linares
END:VEVENT
END:VCALENDAR
