BEGIN:VCALENDAR
VERSION:2.0
PRODID:icalendar-ruby
CALSCALE:GREGORIAN
METHOD:PUBLISH
BEGIN:VEVENT
DTSTAMP:20260423T081326Z
UID:event-22382-2026-04-26T19:00:00+02:00-none
DTSTART;TZID=Europe/Madrid:20260426T190000
DESCRIPTION:Los inmensos territorios que hoy forman los Estados Unidos tien
 en en su mayoría una raíz hispana. Siendo el segundo país con más núm
 ero de hispanos\, también es el país dónde sus raíces están más desc
 uidadas. 
SUMMARY:"We the Hispanos"\, proyección y coloquio con el director
END:VEVENT
END:VCALENDAR
