BEGIN:VCALENDAR
VERSION:2.0
PRODID:icalendar-ruby
CALSCALE:GREGORIAN
METHOD:PUBLISH
BEGIN:VEVENT
DTSTAMP:20260420T171910Z
UID:event-20731-2026-05-12T20:30:00+02:00-none
DTSTART;TZID=Europe/Madrid:20260512T203000
DESCRIPTION:Desde los acantilados de Cornualles llega a Santander una de la
 s bandas más inclasificables y respetadas del panorama británico. Wille 
 & The Bandits no son solo un grupo de rock\; son una fuerza de la naturale
 za.
SUMMARY:Willie & The Bandits en las Rock Nights
END:VEVENT
END:VCALENDAR
