BEGIN:VCALENDAR
VERSION:2.0
PRODID:icalendar-ruby
CALSCALE:GREGORIAN
METHOD:PUBLISH
BEGIN:VEVENT
DTSTAMP:20260421T191502Z
UID:event-20679-2026-09-11-2026-09-11
DTSTART;VALUE=DATE:20260911
DTEND;VALUE=DATE:20260911
DESCRIPTION:El Festival de Cine de Santander (FCS)\, organizado por Morena 
 Films y el Centro Botín\, celebra este año su décima edición del 11 al
  17 de septiembre\, en distintos espacios de la ciudad de Santander.
SUMMARY:X Festival de Cine de Santander
END:VEVENT
BEGIN:VEVENT
DTSTAMP:20260421T191502Z
UID:event-20679-2026-09-12-2026-09-12
DTSTART;VALUE=DATE:20260912
DTEND;VALUE=DATE:20260912
DESCRIPTION:El Festival de Cine de Santander (FCS)\, organizado por Morena 
 Films y el Centro Botín\, celebra este año su décima edición del 11 al
  17 de septiembre\, en distintos espacios de la ciudad de Santander.
SUMMARY:X Festival de Cine de Santander
END:VEVENT
BEGIN:VEVENT
DTSTAMP:20260421T191502Z
UID:event-20679-2026-09-13-2026-09-13
DTSTART;VALUE=DATE:20260913
DTEND;VALUE=DATE:20260913
DESCRIPTION:El Festival de Cine de Santander (FCS)\, organizado por Morena 
 Films y el Centro Botín\, celebra este año su décima edición del 11 al
  17 de septiembre\, en distintos espacios de la ciudad de Santander.
SUMMARY:X Festival de Cine de Santander
END:VEVENT
BEGIN:VEVENT
DTSTAMP:20260421T191502Z
UID:event-20679-2026-09-14-2026-09-14
DTSTART;VALUE=DATE:20260914
DTEND;VALUE=DATE:20260914
DESCRIPTION:El Festival de Cine de Santander (FCS)\, organizado por Morena 
 Films y el Centro Botín\, celebra este año su décima edición del 11 al
  17 de septiembre\, en distintos espacios de la ciudad de Santander.
SUMMARY:X Festival de Cine de Santander
END:VEVENT
BEGIN:VEVENT
DTSTAMP:20260421T191502Z
UID:event-20679-2026-09-15-2026-09-15
DTSTART;VALUE=DATE:20260915
DTEND;VALUE=DATE:20260915
DESCRIPTION:El Festival de Cine de Santander (FCS)\, organizado por Morena 
 Films y el Centro Botín\, celebra este año su décima edición del 11 al
  17 de septiembre\, en distintos espacios de la ciudad de Santander.
SUMMARY:X Festival de Cine de Santander
END:VEVENT
BEGIN:VEVENT
DTSTAMP:20260421T191502Z
UID:event-20679-2026-09-16-2026-09-16
DTSTART;VALUE=DATE:20260916
DTEND;VALUE=DATE:20260916
DESCRIPTION:El Festival de Cine de Santander (FCS)\, organizado por Morena 
 Films y el Centro Botín\, celebra este año su décima edición del 11 al
  17 de septiembre\, en distintos espacios de la ciudad de Santander.
SUMMARY:X Festival de Cine de Santander
END:VEVENT
BEGIN:VEVENT
DTSTAMP:20260421T191502Z
UID:event-20679-2026-09-17-2026-09-17
DTSTART;VALUE=DATE:20260917
DTEND;VALUE=DATE:20260917
DESCRIPTION:El Festival de Cine de Santander (FCS)\, organizado por Morena 
 Films y el Centro Botín\, celebra este año su décima edición del 11 al
  17 de septiembre\, en distintos espacios de la ciudad de Santander.
SUMMARY:X Festival de Cine de Santander
END:VEVENT
END:VCALENDAR
